BEGIN:VCALENDAR
VERSION:2.0
PRODID:-//wp-events-plugin.com//7.2.3.1//EN
BEGIN:VEVENT
UID:177@yorkshiresommeliers.co.uk
DTSTART;TZID=Europe/London:20261214T190000
DTEND;TZID=Europe/London:20261214T220000
DTSTAMP:20260131T142622Z
URL:https://yorkshiresommeliers.co.uk/events/christmas-dinner-2/
SUMMARY:Christmas Dinner
DESCRIPTION:Venue and presenter TBA
ATTACH;FMTTYPE=image/jpeg:https://yorkshiresommeliers.co.uk/wp-content/upl
 oads/2025/03/pexels-nicole-michalou-5775055-scaled.jpg
LOCATION:Caistor\, Caistor\, Caistor\, United Kingdom
X-APPLE-STRUCTURED-LOCATION;VALUE=URI;X-ADDRESS=Caistor\, Caistor\, United 
 Kingdom;X-APPLE-RADIUS=100;X-TITLE=Caistor:geo:0,0
END:VEVENT
BEGIN:VTIMEZONE
TZID:Europe/London
X-LIC-LOCATION:Europe/London
BEGIN:STANDARD
DTSTART:20261025T010000
TZOFFSETFROM:+0100
TZOFFSETTO:+0000
TZNAME:GMT
END:STANDARD
END:VTIMEZONE
END:VCALENDAR