BEGIN:VCALENDAR
VERSION:2.0
PRODID:-//wp-events-plugin.com//7.2.3.1//EN
BEGIN:VEVENT
UID:64@yorkshiresommeliers.co.uk
DTSTART;TZID=Europe/London:20250407T190000
DTEND;TZID=Europe/London:20250407T220000
DTSTAMP:20250401T194424Z
URL:https://yorkshiresommeliers.co.uk/events/david-lawson-chez-vin-wines-o
 f-portugal/
SUMMARY:David Lawson\, Chez Vin - Wines of Portugal
DESCRIPTION:Venue: York Sports Club (Wendy Shepherd Suite)\, YO30 5RE | For
 mat: One fizz and six wines followed by a buffet
ATTACH;FMTTYPE=image/jpeg:https://yorkshiresommeliers.co.uk/wp-content/upl
 oads/2021/05/w-bg208.jpg
LOCATION:York\, York\, York\, United Kingdom
X-APPLE-STRUCTURED-LOCATION;VALUE=URI;X-ADDRESS=York\, York\, United Kingdo
 m;X-APPLE-RADIUS=100;X-TITLE=York:geo:0,0
END:VEVENT
BEGIN:VTIMEZONE
TZID:Europe/London
X-LIC-LOCATION:Europe/London
BEGIN:DAYLIGHT
DTSTART:20250330T020000
TZOFFSETFROM:+0000
TZOFFSETTO:+0100
TZNAME:BST
END:DAYLIGHT
END:VTIMEZONE
END:VCALENDAR