BEGIN:VCALENDAR
VERSION:2.0
PRODID:-//wp-events-plugin.com//7.2.3.1//EN
BEGIN:VEVENT
UID:51@yorkshiresommeliers.co.uk
DTSTART;TZID=Europe/London:20241007T184500
DTEND;TZID=Europe/London:20241007T214500
DTSTAMP:20240604T084130Z
URL:https://yorkshiresommeliers.co.uk/events/hc-wines-vintners-choice/
SUMMARY:HC wines – Vintners choice
DESCRIPTION:Venue:Northcliffe Golf Club
ATTACH;FMTTYPE=image/jpeg:https://yorkshiresommeliers.co.uk/wp-content/upl
 oads/2023/08/w051.jpg
LOCATION:Scarborough\, Scarborough\, Scarborough\, United Kingdom
X-APPLE-STRUCTURED-LOCATION;VALUE=URI;X-ADDRESS=Scarborough\, Scarborough\,
  United Kingdom;X-APPLE-RADIUS=100;X-TITLE=Scarborough:geo:0,0
END:VEVENT
BEGIN:VTIMEZONE
TZID:Europe/London
X-LIC-LOCATION:Europe/London
BEGIN:DAYLIGHT
DTSTART:20240331T020000
TZOFFSETFROM:+0000
TZOFFSETTO:+0100
TZNAME:BST
END:DAYLIGHT
END:VTIMEZONE
END:VCALENDAR