BEGIN:VCALENDAR
VERSION:2.0
PRODID:-//wp-events-plugin.com//7.2.3.1//EN
BEGIN:VEVENT
UID:46@yorkshiresommeliers.co.uk
DTSTART;TZID=Europe/London:20241112T184500
DTEND;TZID=Europe/London:20241112T210000
DTSTAMP:20240604T083633Z
URL:https://yorkshiresommeliers.co.uk/events/james-long-corney-barrow-this
 -years-christmas-choice/
SUMMARY:James Long Corney & Barrow – This year’s Christmas choice
DESCRIPTION:Venue: The Kingston Theatre Hotel
ATTACH;FMTTYPE=image/jpeg:https://yorkshiresommeliers.co.uk/wp-content/upl
 oads/2023/08/w-bg-106.jpg
LOCATION:Hull\, Hull\, Hull\, United Kingdom
X-APPLE-STRUCTURED-LOCATION;VALUE=URI;X-ADDRESS=Hull\, Hull\, United Kingdo
 m;X-APPLE-RADIUS=100;X-TITLE=Hull:geo:0,0
END:VEVENT
BEGIN:VTIMEZONE
TZID:Europe/London
X-LIC-LOCATION:Europe/London
BEGIN:STANDARD
DTSTART:20241027T010000
TZOFFSETFROM:+0100
TZOFFSETTO:+0000
TZNAME:GMT
END:STANDARD
END:VTIMEZONE
END:VCALENDAR