BEGIN:VCALENDAR
VERSION:2.0
PRODID:-//wp-events-plugin.com//7.2.3.1//EN
BEGIN:VEVENT
UID:180@yorkshiresommeliers.co.uk
DTSTART;TZID=Europe/London:20260414T190000
DTEND;TZID=Europe/London:20260414T213000
DTSTAMP:20260131T150909Z
URL:https://yorkshiresommeliers.co.uk/events/members-spring-tasting-2/
SUMMARY:Members' Spring Tasting 2
DESCRIPTION:Venue: TBA
ATTACH;FMTTYPE=image/jpeg:https://yorkshiresommeliers.co.uk/wp-content/upl
 oads/2026/01/spring.jpg
LOCATION:Bingley\, Bingley\, Bingley\, United Kingdom
X-APPLE-STRUCTURED-LOCATION;VALUE=URI;X-ADDRESS=Bingley\, Bingley\, United 
 Kingdom;X-APPLE-RADIUS=100;X-TITLE=Bingley:geo:0,0
END:VEVENT
BEGIN:VTIMEZONE
TZID:Europe/London
X-LIC-LOCATION:Europe/London
BEGIN:DAYLIGHT
DTSTART:20260329T020000
TZOFFSETFROM:+0000
TZOFFSETTO:+0100
TZNAME:BST
END:DAYLIGHT
END:VTIMEZONE
END:VCALENDAR