BEGIN:VCALENDAR
VERSION:2.0
PRODID:-//wp-events-plugin.com//7.2.3.1//EN
BEGIN:VEVENT
UID:9@yorkshiresommeliers.co.uk
DTSTART;TZID=Europe/London:20240701T074500
DTEND;TZID=Europe/London:20240701T094500
DTSTAMP:20240603T205422Z
URL:https://yorkshiresommeliers.co.uk/events/mimi-avery-averys-of-bristol-
 a-history-of-averys/
SUMMARY:Mimi Avery\, Averys of Bristol - A History of Averys
DESCRIPTION:Venue: York Sports Club
ATTACH;FMTTYPE=image/jpeg:https://yorkshiresommeliers.co.uk/wp-content/upl
 oads/2021/05/w-bg004.jpg
LOCATION:York\, York\, York\, United Kingdom
X-APPLE-STRUCTURED-LOCATION;VALUE=URI;X-ADDRESS=York\, York\, United Kingdo
 m;X-APPLE-RADIUS=100;X-TITLE=York:geo:0,0
END:VEVENT
BEGIN:VTIMEZONE
TZID:Europe/London
X-LIC-LOCATION:Europe/London
BEGIN:DAYLIGHT
DTSTART:20240331T020000
TZOFFSETFROM:+0000
TZOFFSETTO:+0100
TZNAME:BST
END:DAYLIGHT
END:VTIMEZONE
END:VCALENDAR