BEGIN:VCALENDAR
VERSION:2.0
PRODID:-//wp-events-plugin.com//7.2.3.1//EN
BEGIN:VEVENT
UID:152@yorkshiresommeliers.co.uk
DTSTART;TZID=Europe/London:20261207T190000
DTEND;TZID=Europe/London:20261207T220000
DTSTAMP:20251214T104020Z
URL:https://yorkshiresommeliers.co.uk/events/paul-tate-smith-christmas-cla
 ssics/
SUMMARY:Paul Tate Smith - Christmas Classics
DESCRIPTION:Venue: The Crescent Hotel. 19:00 for 19:30 start
ATTACH;FMTTYPE=image/jpeg:https://yorkshiresommeliers.co.uk/wp-content/upl
 oads/2025/03/yesmore-content-KhuwrJJazJ4-unsplash-scaled.jpg
LOCATION:Scarborough\, Scarborough\, Scarborough\, United Kingdom
X-APPLE-STRUCTURED-LOCATION;VALUE=URI;X-ADDRESS=Scarborough\, Scarborough\,
  United Kingdom;X-APPLE-RADIUS=100;X-TITLE=Scarborough:geo:0,0
END:VEVENT
BEGIN:VTIMEZONE
TZID:Europe/London
X-LIC-LOCATION:Europe/London
BEGIN:STANDARD
DTSTART:20261025T010000
TZOFFSETFROM:+0100
TZOFFSETTO:+0000
TZNAME:GMT
END:STANDARD
END:VTIMEZONE
END:VCALENDAR