BEGIN:VCALENDAR
VERSION:2.0
PRODID:-//wp-events-plugin.com//7.2.3.1//EN
BEGIN:VEVENT
UID:129@yorkshiresommeliers.co.uk
DTSTART;TZID=Europe/London:20260210T190000
DTEND;TZID=Europe/London:20260210T220000
DTSTAMP:20251115T123057Z
URL:https://yorkshiresommeliers.co.uk/events/preet-sahota-edgmond-wines-ne
 w-wines-of-south-africa/
SUMMARY:PREET SAHOTA\, EDGMOND WINES - NEW WINES OF SOUTH AFRICA
DESCRIPTION:Venue: The Kingston Theatre Hotel\, HU2 8DA
ATTACH;FMTTYPE=image/jpeg:https://yorkshiresommeliers.co.uk/wp-content/upl
 oads/2025/11/Credit-Wines-of-South-Africa-920x609-1.jpg
LOCATION:Hull\, Hull\, Hull\, United Kingdom
X-APPLE-STRUCTURED-LOCATION;VALUE=URI;X-ADDRESS=Hull\, Hull\, United Kingdo
 m;X-APPLE-RADIUS=100;X-TITLE=Hull:geo:0,0
END:VEVENT
BEGIN:VTIMEZONE
TZID:Europe/London
X-LIC-LOCATION:Europe/London
BEGIN:STANDARD
DTSTART:20251026T010000
TZOFFSETFROM:+0100
TZOFFSETTO:+0000
TZNAME:GMT
END:STANDARD
END:VTIMEZONE
END:VCALENDAR