BEGIN:VCALENDAR
VERSION:2.0
PRODID:-//wp-events-plugin.com//7.2.3.1//EN
BEGIN:VEVENT
UID:124@yorkshiresommeliers.co.uk
DTSTART;TZID=Europe/London:20260413T070000
DTEND;TZID=Europe/London:20260413T093000
DTSTAMP:20260228T115015Z
URL:https://yorkshiresommeliers.co.uk/events/tasting-with-david-lawson-of-
 chez-vin/
SUMMARY:TBC
DESCRIPTION:Theme TBC\n\nVenue: The Olive\, 188-190 Harrogate Rd\, Chapel A
 llerton\, Leeds LS7 4NZ
ATTACH;FMTTYPE=image/jpeg:https://yorkshiresommeliers.co.uk/wp-content/upl
 oads/2025/03/wooden-table-with-blurry-wine-shelf-backdrop-scaled.jpg
LOCATION:Leeds\, Leeds\, Leeds\, United Kingdom
X-APPLE-STRUCTURED-LOCATION;VALUE=URI;X-ADDRESS=Leeds\, Leeds\, United King
 dom;X-APPLE-RADIUS=100;X-TITLE=Leeds:geo:0,0
END:VEVENT
BEGIN:VTIMEZONE
TZID:Europe/London
X-LIC-LOCATION:Europe/London
BEGIN:DAYLIGHT
DTSTART:20260329T020000
TZOFFSETFROM:+0000
TZOFFSETTO:+0100
TZNAME:BST
END:DAYLIGHT
END:VTIMEZONE
END:VCALENDAR