BEGIN:VCALENDAR
VERSION:2.0
PRODID:-//wp-events-plugin.com//7.2.3.1//EN
BEGIN:VEVENT
UID:108@yorkshiresommeliers.co.uk
DTSTART;TZID=Europe/London:20251111T190000
DTEND;TZID=Europe/London:20251111T220000
DTSTAMP:20250403T124110Z
URL:https://yorkshiresommeliers.co.uk/events/tbc-4/
SUMMARY:TBC
DESCRIPTION:TBC
ATTACH;FMTTYPE=image/jpeg:https://yorkshiresommeliers.co.uk/wp-content/upl
 oads/2025/03/side-view-man-looking-wine-glass-scaled.jpg
LOCATION:Bingley\, Bingley\, Bingley\, United Kingdom
X-APPLE-STRUCTURED-LOCATION;VALUE=URI;X-ADDRESS=Bingley\, Bingley\, United 
 Kingdom;X-APPLE-RADIUS=100;X-TITLE=Bingley:geo:0,0
END:VEVENT
BEGIN:VTIMEZONE
TZID:Europe/London
X-LIC-LOCATION:Europe/London
BEGIN:STANDARD
DTSTART:20251026T010000
TZOFFSETFROM:+0100
TZOFFSETTO:+0000
TZNAME:GMT
END:STANDARD
END:VTIMEZONE
END:VCALENDAR