BEGIN:VCALENDAR
VERSION:2.0
PRODID:-//wp-events-plugin.com//7.2.3.1//EN
BEGIN:VEVENT
UID:145@yorkshiresommeliers.co.uk
DTSTART;TZID=Europe/London:20260511T190000
DTEND;TZID=Europe/London:20260511T220000
DTSTAMP:20251214T103202Z
URL:https://yorkshiresommeliers.co.uk/events/tipsea-wines-world-wide-wonde
 rs/
SUMMARY:Tipsea Wines - World-Wide-Wonders
DESCRIPTION:Venue: North Cliff Golf Club. 19:00 for 19:30 start
ATTACH;FMTTYPE=image/jpeg:https://yorkshiresommeliers.co.uk/wp-content/upl
 oads/2023/08/w-bg206.jpg
LOCATION:Scarborough\, Scarborough\, Scarborough\, United Kingdom
X-APPLE-STRUCTURED-LOCATION;VALUE=URI;X-ADDRESS=Scarborough\, Scarborough\,
  United Kingdom;X-APPLE-RADIUS=100;X-TITLE=Scarborough:geo:0,0
END:VEVENT
BEGIN:VTIMEZONE
TZID:Europe/London
X-LIC-LOCATION:Europe/London
BEGIN:DAYLIGHT
DTSTART:20260329T020000
TZOFFSETFROM:+0000
TZOFFSETTO:+0100
TZNAME:BST
END:DAYLIGHT
END:VTIMEZONE
END:VCALENDAR